BEGIN:VCALENDAR
VERSION:2.0
PRODID:-//Crush Improv - ECPv5.14.0//NONSGML v1.0//EN
CALSCALE:GREGORIAN
METHOD:PUBLISH
X-WR-CALNAME:Crush Improv
X-ORIGINAL-URL:https://crushimprov.com
X-WR-CALDESC:Events for Crush Improv
BEGIN:VTIMEZONE
TZID:America/Toronto
BEGIN:DAYLIGHT
TZOFFSETFROM:-0500
TZOFFSETTO:-0400
TZNAME:EDT
DTSTART:20120311T070000
END:DAYLIGHT
BEGIN:STANDARD
TZOFFSETFROM:-0400
TZOFFSETTO:-0500
TZNAME:EST
DTSTART:20121104T060000
END:STANDARD
END:VTIMEZONE
BEGIN:VEVENT
DTSTART;TZID=America/Toronto:20121001T163000
DTEND;TZID=America/Toronto:20121001T183000
DTSTAMP:20260419T233012
CREATED:20120925T153615Z
LAST-MODIFIED:20141222T145143Z
UID:5107-1349109000-1349116200@crushimprov.com
SUMMARY:October Workshop
DESCRIPTION:INSTRUCTOR: Ken Godmere \nWORKSHOP DESCRIPTION\nIMPROV ‘SENSE’: HEAR\, SEE\, and TOUCH\nThinking quickly is not enough. Let’s workshop actually hearing the offers\, seeing the scene\, and touching the environment — in short-form games and in long-form scenes. \n  \nThis is a DROP-IN workshop\, so feel free to just show up! (on time please) \nMonday\, Oct.1st\, 4:30-6:30pm\nHintonburg Community Centre\, Burnside Room\n$10 \nKEN WANTS YOU!\nTwo performers from this workshop will be chosen to participate in that evening’s ‘Bout Time at the Elmdale Tavern. Ken’s team\, ‘Ken Says SURPRISE’\, will take on returning champions ‘Two and a Half Women’. \nINSTRUCTOR BIO:\nKen Godmere has 30 years of improv experience\, including training and performing with Second City Toronto\, judging for the Canadian Improv Games\, and 6 years directing\, teaching and performing at the Institution in Ottawa. He has performed with Crush Improv numerous times\, including two years of ‘My Summer Crush’ and as part of the undefeated ‘Bout Time team\, The Neighbourhood. This summer\, while on tour with his highly successful one-man show “Vernus Says SURPRISE”\, Ken performed in the Edmonton Fringe improvised soap opera ‘Die-Nasty’.
URL:https://crushimprov.com/event/october-workshop/
CATEGORIES:Workshops & Classes
ATTACH;FMTTYPE=image/jpeg:https://crushimprov.com/wp-content/uploads/2012/09/Ken-Godmere-e1348587634421.jpeg
END:VEVENT
END:VCALENDAR